BEGIN:VCALENDAR
VERSION:2.0
PRODID:-//ChamberMaster//Event Calendar 2.0//EN
METHOD:PUBLISH
X-PUBLISHED-TTL:P3D
REFRESH-INTERVAL:P3D
CALSCALE:GREGORIAN
BEGIN:VEVENT
DTSTART:20091001T050000Z
DTEND:20091001T050000Z
X-MICROSOFT-CDO-ALLDAYEVENT:FALSE
SUMMARY:2009 HBASE Clay Shooting Challenge
DESCRIPTION:
X-ALT-DESC;FMTTYPE=text/html:
LOCATION:
UID:e.9375.224
SEQUENCE:3
DTSTAMP:20260422T221618Z
URL:http://hbasiouxempiresd.memberzone.com/events/details/2009-hbase-clay-shooting-challenge-10-01-2009-224
END:VEVENT

END:VCALENDAR
