BEGIN:VCALENDAR
VERSION:2.0
PRODID:-//ChamberMaster//Event Calendar 2.0//EN
METHOD:PUBLISH
X-PUBLISHED-TTL:P3D
REFRESH-INTERVAL:P3D
CALSCALE:GREGORIAN
BEGIN:VEVENT
DTSTART:20090502T050000Z
DTEND:20090505T050000Z
X-MICROSOFT-CDO-ALLDAYEVENT:FALSE
SUMMARY:2009 Spring Parade of Homes
DESCRIPTION:1:00 - 5:00 Saturday & Sunday\n 5:30pm - 8:30pm Monday & Tuesday
X-ALT-DESC;FMTTYPE=text/html:<p>1:00 - 5:00 Saturday &amp\; Sunday<br /> 5:30pm - 8:30pm Monday &amp\; Tuesday</p>
LOCATION:
UID:e.9375.35
SEQUENCE:3
DTSTAMP:20260423T085950Z
URL:http://hbasiouxempiresd.memberzone.com/events/details/2009-spring-parade-of-homes-05-02-2009-35
END:VEVENT

END:VCALENDAR
