BEGIN:VCALENDAR
VERSION:2.0
PRODID:-//ChamberMaster//Event Calendar 2.0//EN
METHOD:PUBLISH
X-PUBLISHED-TTL:P3D
REFRESH-INTERVAL:P3D
CALSCALE:GREGORIAN
BEGIN:VEVENT
DTSTART;VALUE=DATE:20090715
DTEND;VALUE=DATE:20090716
TRANSP:TRANSPARENT
X-MICROSOFT-CDO-ALLDAYEVENT:TRUE
SUMMARY:Associate Appreciation Night - Hot Summer Nights
DESCRIPTION:Home Federal Bank (11th & Dakota in the Lower Level Parking Lot) 6:00 - 8:30pm (meal served 6:30 - 7:30pm) Associates receive 4 complimentary Reservations per Member Company
X-ALT-DESC;FMTTYPE=text/html:<p>Home Federal Bank (11th &amp\; Dakota in the Lower Level Parking Lot)</p> <p>6:00 - 8:30pm (meal served 6:30 - 7:30pm)</p> <p>Associates receive 4 complimentary Reservations per Member Company</p>
LOCATION:
UID:e.9375.39
SEQUENCE:3
DTSTAMP:20260423T054811Z
URL:http://hbasiouxempiresd.memberzone.com/events/details/associate-appreciation-night-hot-summer-nights-07-15-2009-39
END:VEVENT

END:VCALENDAR
