BEGIN:VCALENDAR
VERSION:2.0
PRODID:-//ChamberMaster//Event Calendar 2.0//EN
METHOD:PUBLISH
X-PUBLISHED-TTL:P3D
REFRESH-INTERVAL:P3D
CALSCALE:GREGORIAN
BEGIN:VEVENT
DTSTART;VALUE=DATE:20081122
DTEND;VALUE=DATE:20081123
TRANSP:TRANSPARENT
X-MICROSOFT-CDO-ALLDAYEVENT:TRUE
SUMMARY:Associate's Appreciation Night - 11/22/2008
DESCRIPTION:Associate's Appreciation Night @ Home Federal Bank downtown
X-ALT-DESC;FMTTYPE=text/html:<p>Associate&rsquo\;s Appreciation Night @ Home Federal Bank downtown</p>
LOCATION:
UID:e.9375.28
SEQUENCE:3
DTSTAMP:20260423T214553Z
URL:http://hbasiouxempiresd.memberzone.com/events/details/associate-s-appreciation-night-11-22-2008-11-22-2008-28
END:VEVENT

END:VCALENDAR
