BEGIN:VCALENDAR
VERSION:2.0
PRODID:-//ChamberMaster//Event Calendar 2.0//EN
METHOD:PUBLISH
X-PUBLISHED-TTL:P3D
REFRESH-INTERVAL:P3D
CALSCALE:GREGORIAN
BEGIN:VEVENT
DTSTART:20081016T050000Z
DTEND:20081016T050000Z
X-MICROSOFT-CDO-ALLDAYEVENT:FALSE
SUMMARY:Clay Shoot Outing
DESCRIPTION:
X-ALT-DESC;FMTTYPE=text/html:
LOCATION:
UID:e.9375.233
SEQUENCE:3
DTSTAMP:20260423T231841Z
URL:http://hbasiouxempiresd.memberzone.com/events/details/clay-shoot-outing-10-16-2008-233
END:VEVENT

END:VCALENDAR
