BEGIN:VCALENDAR
VERSION:2.0
PRODID:-//ChamberMaster//Event Calendar 2.0//EN
METHOD:PUBLISH
X-PUBLISHED-TTL:P3D
REFRESH-INTERVAL:P3D
CALSCALE:GREGORIAN
BEGIN:VEVENT
DTSTART;VALUE=DATE:20090520
DTEND;VALUE=DATE:20090521
TRANSP:TRANSPARENT
X-MICROSOFT-CDO-ALLDAYEVENT:TRUE
SUMMARY:Economic Outlook Briefing Luncheon
DESCRIPTION:Best Western Ramkota Hotel - Washington Room\n 11:30am - 1:00pm
X-ALT-DESC;FMTTYPE=text/html:<p>Best Western Ramkota Hotel - Washington Room<br /> 11:30am - 1:00pm</p>
LOCATION:
UID:e.9375.36
SEQUENCE:3
DTSTAMP:20260423T104134Z
URL:http://hbasiouxempiresd.memberzone.com/events/details/economic-outlook-briefing-luncheon-05-20-2009-36
END:VEVENT

END:VCALENDAR
