BEGIN:VCALENDAR
VERSION:2.0
PRODID:-//ChamberMaster//Event Calendar 2.0//EN
METHOD:PUBLISH
X-PUBLISHED-TTL:P3D
REFRESH-INTERVAL:P3D
CALSCALE:GREGORIAN
BEGIN:VEVENT
DTSTART:20090805T050000Z
DTEND:20090805T050000Z
X-MICROSOFT-CDO-ALLDAYEVENT:FALSE
SUMMARY:Golf Outing - Spring Creek - 08/05/2009
DESCRIPTION:
X-ALT-DESC;FMTTYPE=text/html:
LOCATION:
UID:e.9375.250
SEQUENCE:3
DTSTAMP:20260423T042747Z
URL:http://hbasiouxempiresd.memberzone.com/events/details/golf-outing-spring-creek-08-05-2009-08-05-2009-250
END:VEVENT

END:VCALENDAR
