BEGIN:VCALENDAR
VERSION:2.0
PRODID:-//ChamberMaster//Event Calendar 2.0//EN
METHOD:PUBLISH
X-PUBLISHED-TTL:P3D
REFRESH-INTERVAL:P3D
CALSCALE:GREGORIAN
BEGIN:VEVENT
DTSTART:20090515T050000Z
DTEND:20090515T050000Z
X-MICROSOFT-CDO-ALLDAYEVENT:FALSE
SUMMARY:HBASE Member Appreciation Breakfast - 05/15/2009
DESCRIPTION:
X-ALT-DESC;FMTTYPE=text/html:
LOCATION:VFW Sioux Falls\, SD 57104
UID:e.9375.255
SEQUENCE:3
DTSTAMP:20260423T104028Z
URL:http://hbasiouxempiresd.memberzone.com/events/details/hbase-member-appreciation-breakfast-05-15-2009-05-15-2009-255
END:VEVENT

END:VCALENDAR
