BEGIN:VCALENDAR
VERSION:2.0
PRODID:-//ChamberMaster//Event Calendar 2.0//EN
METHOD:PUBLISH
X-PUBLISHED-TTL:P3D
REFRESH-INTERVAL:P3D
CALSCALE:GREGORIAN
BEGIN:VEVENT
DTSTART;VALUE=DATE:20080626
DTEND;VALUE=DATE:20080627
TRANSP:TRANSPARENT
X-MICROSOFT-CDO-ALLDAYEVENT:TRUE
SUMMARY:June 2008 Membership Meeting - Canaries Game
DESCRIPTION:Canaries Stadium\n \n 5:30pm - Registration\n 6:00pm-6:45pm - Dinner
X-ALT-DESC;FMTTYPE=text/html:<p>Canaries Stadium<br /> <br /> 5:30pm - Registration<br /> 6:00pm-6:45pm - Dinner</p>
LOCATION:Westward Ho Country Club Sioux Falls\, SD 57106
UID:e.9375.15
SEQUENCE:3
DTSTAMP:20260424T064230Z
URL:http://hbasiouxempiresd.memberzone.com/events/details/june-2008-membership-meeting-canaries-game-06-26-2008-15
END:VEVENT

END:VCALENDAR
